BEGIN:VCALENDAR
VERSION:2.0
PRODID:-//Naked Madrid - ECPv5.2.1//NONSGML v1.0//EN
CALSCALE:GREGORIAN
METHOD:PUBLISH
X-WR-CALNAME:Naked Madrid
X-ORIGINAL-URL:https://www.nakedmadrid.com
X-WR-CALDESC:Events for Naked Madrid
BEGIN:VTIMEZONE
TZID:UTC
BEGIN:STANDARD
TZOFFSETFROM:+0000
TZOFFSETTO:+0000
TZNAME:UTC
DTSTART:20150101T000000
END:STANDARD
END:VTIMEZONE
BEGIN:VEVENT
DTSTART;TZID=UTC:20150224T203000
DTEND;TZID=UTC:20150224T233000
DTSTAMP:20260423T010636
CREATED:20150123T181310Z
LAST-MODIFIED:20150223T111942Z
UID:5337-1424809800-1424820600@www.nakedmadrid.com
SUMMARY:Yelmo Cine Club Throwbacks on Tuesday Nights at 8:30pm\, Tickets Only 4\,50 Eur!
DESCRIPTION:Tuesday nights just got a whole lot better now that some of history’s most iconic films are being played on the big screen! This event is perfect for all film lovers and anyone who simply wants to stop being made fun of for not having seen classics like Saturday Night Llive (1975)\, for example. From now until March\, come to the cinema to enjoy films from the 60s\, 70s\, 80s\, and 90s! Up next\, Ridley Scott’s Thelma and Louise (1991)!
URL:https://www.nakedmadrid.com/event/yelmo-cine-club-throwbacks-on-tuesday-nights-at-830pm-tickets-only-450-eur/
LOCATION:Yelmo Cines Ideal\, Calle del Doctor Cortezo\, 6\, Madrid \, 28012
CATEGORIES:Film
ATTACH;FMTTYPE=image/jpeg:https://www.nakedmadrid.com/wp-content/uploads/2015/01/YCC-e1422035070859.jpg
END:VEVENT
END:VCALENDAR