BEGIN:VCALENDAR
VERSION:2.0
PRODID:-//Naked Madrid - ECPv5.2.1//NONSGML v1.0//EN
CALSCALE:GREGORIAN
METHOD:PUBLISH
X-WR-CALNAME:Naked Madrid
X-ORIGINAL-URL:https://www.nakedmadrid.com
X-WR-CALDESC:Events for Naked Madrid
BEGIN:VTIMEZONE
TZID:UTC
BEGIN:STANDARD
TZOFFSETFROM:+0000
TZOFFSETTO:+0000
TZNAME:UTC
DTSTART:20140101T000000
END:STANDARD
END:VTIMEZONE
BEGIN:VEVENT
DTSTART;TZID=UTC:20141122T091500
DTEND;TZID=UTC:20141122T203000
DTSTAMP:20260423T042837
CREATED:20141117T092439Z
LAST-MODIFIED:20141117T092439Z
UID:4318-1416647700-1416688200@www.nakedmadrid.com
SUMMARY:Wine Tour of Bodega Finca La Estacada and Cuenca with The Wine Bus
DESCRIPTION:Founded by Ignacio Segovia\, The Wine Bus takes groups of up to 20 people on day trips to wineries around Madrid every Saturday. As its name entails\, passengers are welcome to drink as much as they like because someone else is driving. The Wine Bus picks you up at Hotel Claridge (Plaza de Conde de Casal) in Madrid at 9:30 a.m. and drops you off in the same spot at 8:30 p.m. On these tours\, you’ll enjoy learning how the wine is made\, the stories behind the wineries and of course\, taste different wines and eat a great meal\, too! \nSaturday\, November 22nd\nThis Saturday\, The Wine Bus is going to Bodega Finca La Estacada for a tour of the winery and a few tastings. The bus will then take you for a fantastic lunch\, followed by a guided tour of the beautiful city of Cuenca with its famous hanging houses. After watching the sunset\, the Wine Bus will take you back to Madrid and drop you off at Hotel Claridge. \nBooking Details:\nPrice of the trip is 59€ (transport included) + 20€ for lunch.  \nYou can book your trip here and get a 3€ discount with promotional code: naked. \nOr email Ignacio Segovia at igsegma@gmail.com or call 630 099 630 (he speaks English). \nHere’s a more in-depth article on our experience on the Wine Bus!\n 
URL:https://www.nakedmadrid.com/event/wine-tour-of-bodega-finca-la-estacada-and-cuenca-with-the-wine-bus/
LOCATION:Hotel Claridge\, Plaza Conde de Casal\, 6\, Madrid
CATEGORIES:Wine Tour
ATTACH;FMTTYPE=image/jpeg:https://www.nakedmadrid.com/wp-content/uploads/2014/10/Win-Bus1.jpg
END:VEVENT
END:VCALENDAR