BEGIN:VCALENDAR
VERSION:2.0
PRODID:-//Naked Madrid - ECPv5.2.1//NONSGML v1.0//EN
CALSCALE:GREGORIAN
METHOD:PUBLISH
X-WR-CALNAME:Naked Madrid
X-ORIGINAL-URL:https://www.nakedmadrid.com
X-WR-CALDESC:Events for Naked Madrid
BEGIN:VTIMEZONE
TZID:UTC
BEGIN:STANDARD
TZOFFSETFROM:+0000
TZOFFSETTO:+0000
TZNAME:UTC
DTSTART:20150101T000000
END:STANDARD
END:VTIMEZONE
BEGIN:VEVENT
DTSTART;TZID=UTC:20150612T190000
DTEND;TZID=UTC:20150613T230000
DTSTAMP:20260422T233011
CREATED:20150512T143037Z
LAST-MODIFIED:20150608T071702Z
UID:6767-1434135600-1434236400@www.nakedmadrid.com
SUMMARY:Wine tasting at Bodega de los Reyes
DESCRIPTION:Start your Friday or Saturday night off right with a €10 wine tasting at Bodega de los Reyes! At this friendly bar near Plaza de España\, you’ll get to taste four different types of wine. Each glass comes with a different pintxo or tapa. It’s a great way to start off your night with friends\, as it’s situated in the center and has a space to fit 28 people. \nMake a booking in advance by calling: 91 547 92 13 or 686 22 47 29. \nWhen? \nFriday from 7pm \nSaturday from 9.30pm
URL:https://www.nakedmadrid.com/event/wine-tasting-at-bodega-de-los-reyes/
LOCATION:Bodega de los Reyes\, Calle de los Reyes\, 6\, Madrid 
CATEGORIES:Drinks,Food,Tastings,Wine Tour
ATTACH;FMTTYPE=image/jpeg:https://www.nakedmadrid.com/wp-content/uploads/2015/05/10409088_1061540737207479_1505468918367879763_n-e1431440968657.jpg
ORGANIZER;CN="Unnamed%20Organizer":MAILTO:info@labodegadelosreyes.com
END:VEVENT
END:VCALENDAR