BEGIN:VCALENDAR
VERSION:2.0
PRODID:-//Naked Madrid - ECPv5.2.1//NONSGML v1.0//EN
CALSCALE:GREGORIAN
METHOD:PUBLISH
X-WR-CALNAME:Naked Madrid
X-ORIGINAL-URL:https://www.nakedmadrid.com
X-WR-CALDESC:Events for Naked Madrid
BEGIN:VTIMEZONE
TZID:UTC
BEGIN:STANDARD
TZOFFSETFROM:+0000
TZOFFSETTO:+0000
TZNAME:UTC
DTSTART:20140101T000000
END:STANDARD
END:VTIMEZONE
BEGIN:VEVENT
DTSTART;TZID=UTC:20141126T210000
DTEND;TZID=UTC:20141126T230000
DTSTAMP:20260423T024614
CREATED:20141117T085233Z
LAST-MODIFIED:20141117T085422Z
UID:4310-1417035600-1417042800@www.nakedmadrid.com
SUMMARY:Wine Tasting at Bar Lambuzo
DESCRIPTION:For just 10€\, you will get the chance to taste three (generously poured) glasses of wine\, each one with its very own plentiful tapa. We at Naked Madrid have been to two of these tastings already and absolutely love them. Held in Lambuzo’s downstairs wine cellar\, the tasting will be laid-back and provide wonderful service and delicious food and wine. \nTo reserve your spot\, contact Lambuzo through Facebook\, by telephone 911434862 or email: info@barlambuzo.com. \nHere’s a full article we’ve written on this lovely restaurant in the center of Madrid: Bar Lambuzo\, a family-run Andalusian restaurant offering a mix of activities in their wine cellar\n 
URL:https://www.nakedmadrid.com/event/wine-tasting-at-bar-lambuzo/
LOCATION:Bar Lambuzo\, Calle de las Conchas\, 9\, Madrid
CATEGORIES:Drinks,Food,Tastings
ATTACH;FMTTYPE=image/jpeg:https://www.nakedmadrid.com/wp-content/uploads/2014/11/1375932_798450113547192_8563243616892190353_n.jpg
END:VEVENT
END:VCALENDAR