BEGIN:VCALENDAR
VERSION:2.0
PRODID:-//Naked Madrid - ECPv5.2.1//NONSGML v1.0//EN
CALSCALE:GREGORIAN
METHOD:PUBLISH
X-WR-CALNAME:Naked Madrid
X-ORIGINAL-URL:https://www.nakedmadrid.com
X-WR-CALDESC:Events for Naked Madrid
BEGIN:VTIMEZONE
TZID:UTC
BEGIN:STANDARD
TZOFFSETFROM:+0000
TZOFFSETTO:+0000
TZNAME:UTC
DTSTART:20160101T000000
END:STANDARD
END:VTIMEZONE
BEGIN:VEVENT
DTSTART;TZID=UTC:20160312T120000
DTEND;TZID=UTC:20160312T150000
DTSTAMP:20260423T010619
CREATED:20160223T123020Z
LAST-MODIFIED:20160312T103419Z
UID:8655-1457784000-1457794800@www.nakedmadrid.com
SUMMARY:Vermouth Party at Rocklette by La Vermutería
DESCRIPTION:Vermouth and cheese anyone? Join La Vermutería on March 12 at Rocklette to sip on Vermú Petroni and eat artisan grilled cheese sandwiches at Rocklette\, a stall inside Mercado de Vallehermoso. The event is sure to be tasty!
URL:https://www.nakedmadrid.com/event/vermouth-party-at-rocklette-by-la-vermuteria/
LOCATION:Rocklette\, Calle Vallehermoso\, 36 \, Madrid\, 28015\, Spain
CATEGORIES:Drinks,Markets
ATTACH;FMTTYPE=image/jpeg:https://www.nakedmadrid.com/wp-content/uploads/2016/02/La-Vermutería-e1456224032972.jpg
END:VEVENT
END:VCALENDAR