BEGIN:VCALENDAR
VERSION:2.0
PRODID:-//Naked Madrid - ECPv5.2.1//NONSGML v1.0//EN
CALSCALE:GREGORIAN
METHOD:PUBLISH
X-WR-CALNAME:Naked Madrid
X-ORIGINAL-URL:https://www.nakedmadrid.com
X-WR-CALDESC:Events for Naked Madrid
BEGIN:VTIMEZONE
TZID:UTC
BEGIN:STANDARD
TZOFFSETFROM:+0000
TZOFFSETTO:+0000
TZNAME:UTC
DTSTART:20150101T000000
END:STANDARD
END:VTIMEZONE
BEGIN:VEVENT
DTSTART;TZID=UTC:20151011T130000
DTEND;TZID=UTC:20151011T160000
DTSTAMP:20260422T234918
CREATED:20151009T073132Z
LAST-MODIFIED:20151009T073505Z
UID:7635-1444568400-1444579200@www.nakedmadrid.com
SUMMARY:Vermouth & Burgers – Who could say no to that?
DESCRIPTION:Sunday mornings are getting a whole lot cooler in Madrid thanks to the revival of the city’s “aperitivo” culture (i.e. Sunday morning drinking) and Madrid’s very own pop-up\, La Vermutería\, is one of the main players behind it all! Check out their event this Sunday\, called “Hoy voy a ir al grano\, te voy a meter mano” (Today I’ll go straight to the point\, I’m going to feel you up…) which will be held at Meat\, a restaurant/bar near Alonso Martínez. You can’t pass up the chance to go to a Vermouth & Burgers party on Sunday now can you? \n 
URL:https://www.nakedmadrid.com/event/vermouth-burgers-who-could-say-no-to-that/
LOCATION:Meat\, Calle Santa Teresa 4
CATEGORIES:Drinks,Food
ATTACH;FMTTYPE=image/png:https://www.nakedmadrid.com/wp-content/uploads/2015/10/vermouthandburgers.png
END:VEVENT
END:VCALENDAR