BEGIN:VCALENDAR
VERSION:2.0
PRODID:-//Naked Madrid - ECPv5.2.1//NONSGML v1.0//EN
CALSCALE:GREGORIAN
METHOD:PUBLISH
X-WR-CALNAME:Naked Madrid
X-ORIGINAL-URL:https://www.nakedmadrid.com
X-WR-CALDESC:Events for Naked Madrid
BEGIN:VTIMEZONE
TZID:UTC
BEGIN:STANDARD
TZOFFSETFROM:+0000
TZOFFSETTO:+0000
TZNAME:UTC
DTSTART:20150101T000000
END:STANDARD
END:VTIMEZONE
BEGIN:VEVENT
DTSTART;TZID=UTC:20151128T130000
DTEND;TZID=UTC:20151128T160000
DTSTAMP:20260423T024750
CREATED:20151124T082351Z
LAST-MODIFIED:20151124T094810Z
UID:8166-1448715600-1448726400@www.nakedmadrid.com
SUMMARY:Liven Up Your Saturday Lunch with Vermouth\, Porrones and Mom-style Sandwiches
DESCRIPTION:The Madrid-based popup\, La Vermutería\, is hosting a party on Saturday afternoon that you can’t miss. It will take place in Malasaña’s El Porrón Canalla\, a rather new venue that is reviving bocadillos de madre and all drinks are served from porrones\, a traditional container with a long spout that allows a large group of people to drink (usually wine!) from the same bottle without needing cups (see in the photo below) \n \n  \nI’m not sure if the vermouth is going to be served from porrones on this occasion\, but you can expect delicious bocadillos de madre and Vermut Zecchini. \nEvent page \nFollow hashtag: #elpoderdelvermut for La Vermutería.
URL:https://www.nakedmadrid.com/event/vermouth-and-mom-style-sandwiches/
LOCATION:El Porrón Canalla\, Calle de la Ballesta\, 2 \, Madrid\, Spain
CATEGORIES:Drinks,Food
ATTACH;FMTTYPE=image/png:https://www.nakedmadrid.com/wp-content/uploads/2015/11/La-Vermutería-pop-up-Madrid.png
END:VEVENT
END:VCALENDAR