BEGIN:VCALENDAR
VERSION:2.0
PRODID:-//Naked Madrid - ECPv5.2.1//NONSGML v1.0//EN
CALSCALE:GREGORIAN
METHOD:PUBLISH
X-WR-CALNAME:Naked Madrid
X-ORIGINAL-URL:https://www.nakedmadrid.com
X-WR-CALDESC:Events for Naked Madrid
BEGIN:VTIMEZONE
TZID:UTC
BEGIN:STANDARD
TZOFFSETFROM:+0000
TZOFFSETTO:+0000
TZNAME:UTC
DTSTART:20140101T000000
END:STANDARD
END:VTIMEZONE
BEGIN:VEVENT
DTSTART;TZID=UTC:20141128T180000
DTEND;TZID=UTC:20141129T000000
DTSTAMP:20260423T024430
CREATED:20141124T223506Z
LAST-MODIFIED:20141125T140852Z
UID:4445-1417197600-1417219200@www.nakedmadrid.com
SUMMARY:Thielmann Craft Beer Fair
DESCRIPTION:Did you hear us say international craft beer fair?? Yes\, you did! The first edition of the Thielmann Craft Beer Fair is coming to Madrid on Friday 28th (6pm-12am) and ending on Saturday 29th (12pm-12am)\, and taking place in the convention pavilion in Casa de Campo. The fair will bring together 30 breweries from around the country to offer presentations\, talks and tastings all revolving around the wonderful world of craft beer. It will cost you only 3€ to enter the beer-filled pavilion\, so there’s no excuse if you don’t go.
URL:https://www.nakedmadrid.com/event/thielmann-craft-beer-fair/
LOCATION:Pabellón de Convenciones\, Avenida de Portugal\, s/n\, (Casa de Campo)\, Madrid\, Madrid\, 28011\, Spain
CATEGORIES:Drinks,Festivals,Tastings,Workshops
ATTACH;FMTTYPE=image/jpeg:https://www.nakedmadrid.com/wp-content/uploads/2014/11/Craft-Beer-Madrid-2014-International-Fair.jpg
END:VEVENT
END:VCALENDAR