BEGIN:VCALENDAR
VERSION:2.0
PRODID:-//Naked Madrid - ECPv5.2.1//NONSGML v1.0//EN
CALSCALE:GREGORIAN
METHOD:PUBLISH
X-WR-CALNAME:Naked Madrid
X-ORIGINAL-URL:https://www.nakedmadrid.com
X-WR-CALDESC:Events for Naked Madrid
BEGIN:VTIMEZONE
TZID:UTC
BEGIN:STANDARD
TZOFFSETFROM:+0000
TZOFFSETTO:+0000
TZNAME:UTC
DTSTART:20140101T000000
END:STANDARD
END:VTIMEZONE
BEGIN:VEVENT
DTSTART;TZID=UTC:20141025T092000
DTEND;TZID=UTC:20141025T203000
DTSTAMP:20260423T042228
CREATED:20141018T144558Z
LAST-MODIFIED:20141018T151949Z
UID:3951-1414228800-1414269000@www.nakedmadrid.com
SUMMARY:Wine Tour of Bodegas El Lagar de Isilla; experience the grape harvest first-hand!
DESCRIPTION:Founded by Ignacio Segovia\, The Wine Bus takes groups of up to 20 people on day trips to wineries around Madrid every Saturday. And as its name entails\, passengers are welcome to drink as much as they like\, because someone else is driving. The Wine Bus picks you up at Hotel Claridge (Plaza de Conde de Casal) in Madrid at 9:30 a.m. and drops you off in the same spot at 8:30 p.m. On these tours\, you’ll enjoy learning how the wine is made\, the stories behind the wineries and of course\, taste different wines and eat a great meal\, too! \nSat. Oct. 25th\, El Lagar de Isilla & Aranda de Duero:\nOn Saturday\, October 25th\, The Wine Bus is going to El Lagar de Isilla winery to experience the grape harvest (vendimia) first hand! Whether this is your first visit to a winery or your tenth\, you will surely love it. First you’ll taste different types of grapes and wines at different stages of the elaboration process\, some straight from the barrels. Then you’ll taste the final product (from the bottles) and pair it with fruit and chocolate. After the winery visit\, the bus will take you to Aranda de Duero for tapas and more wine\, plus a guided tour of the town’s 15th & 16th Century wine cellar caves. \nBooking Details:\nPrice of the trip is 59€ (transport included) + 20€ for lunch.  \nYou can book your trip here and get a 3€ discount with promotional code: naked. \nOr email Ignacio Segovia at igsegma@gmail.com or call 630 099 630 (he speaks English). \nHere’s the itinerary: \n9:15 a.m. Depart from Madrid (Hotel Claridge Cafetería) (Plaza del Conde de Casal) \n11:30 a.m. Visit Bodega El Lagar de Isilla and experience the grape harvest \n2:00 p.m. Visit Aranda de Duero \n2:30 p.m. Tapas and wines in Aranda de Duero \n5:00 p.m. Guided tour of Aranda de Duero’s caves and wineries \n6:30 p.m. Return to Madrid \n8:30 p.m. Arrive in Madrid (at the Hotel Claridge Cafetería in Plaza del Conde de Casal) \nHere’s a more in-depth article on our experience on the Wine Bus!
URL:https://www.nakedmadrid.com/event/thewinebustour/
LOCATION:El Lagar de Isilla\, calle Isilla\, 18\, El Lagar de Isilla
CATEGORIES:Wine Tour
ATTACH;FMTTYPE=image/jpeg:https://www.nakedmadrid.com/wp-content/uploads/2014/10/Win-Bus1.jpg
END:VEVENT
END:VCALENDAR