BEGIN:VCALENDAR
VERSION:2.0
PRODID:-//Naked Madrid - ECPv5.2.1//NONSGML v1.0//EN
CALSCALE:GREGORIAN
METHOD:PUBLISH
X-WR-CALNAME:Naked Madrid
X-ORIGINAL-URL:https://www.nakedmadrid.com
X-WR-CALDESC:Events for Naked Madrid
BEGIN:VTIMEZONE
TZID:UTC
BEGIN:STANDARD
TZOFFSETFROM:+0000
TZOFFSETTO:+0000
TZNAME:UTC
DTSTART:20150101T000000
END:STANDARD
END:VTIMEZONE
BEGIN:VEVENT
DTSTART;TZID=UTC:20151030T200000
DTEND;TZID=UTC:20151030T230000
DTSTAMP:20260422T233448
CREATED:20151026T084900Z
LAST-MODIFIED:20151026T084900Z
UID:7752-1446235200-1446246000@www.nakedmadrid.com
SUMMARY:The Orange Dogs of Halloween – Party at Desperate Literature
DESCRIPTION:Want to do something different this halloween in Madrid? Then head over to Desperate Literature\, a charming little bookstore near Opera\, and wear your best costume. Marian Womack\, editor of Ediciones Nevsky\, translator and sci-fi legend\, will be ushering in the halloween festivities with a reading of her most recent work\, ‘Orange Dogs’.  There be all the usual tricks and treats\, meaning booze. \nDress code: cosmic horror.
URL:https://www.nakedmadrid.com/event/the-orange-dogs-of-halloween-party-at-desperate-literature/
LOCATION:Desperate Literature\, c/ Campomanes 13\, Madrid
CATEGORIES:Drinks,Festivals
ATTACH;FMTTYPE=image/jpeg:https://www.nakedmadrid.com/wp-content/uploads/2015/10/Desperate_Literature_Halloween_Madrid.jpg
END:VEVENT
END:VCALENDAR