BEGIN:VCALENDAR
VERSION:2.0
PRODID:-//Naked Madrid - ECPv5.2.1//NONSGML v1.0//EN
CALSCALE:GREGORIAN
METHOD:PUBLISH
X-WR-CALNAME:Naked Madrid
X-ORIGINAL-URL:https://www.nakedmadrid.com
X-WR-CALDESC:Events for Naked Madrid
BEGIN:VTIMEZONE
TZID:UTC
BEGIN:STANDARD
TZOFFSETFROM:+0000
TZOFFSETTO:+0000
TZNAME:UTC
DTSTART:20140101T000000
END:STANDARD
END:VTIMEZONE
BEGIN:VEVENT
DTSTART;TZID=UTC:20141121T120000
DTEND;TZID=UTC:20141224T210000
DTSTAMP:20260423T010605
CREATED:20141124T104342Z
LAST-MODIFIED:20141124T114155Z
UID:4421-1416571200-1419454800@www.nakedmadrid.com
SUMMARY:The Hovse Pop-up Vermouth & Tapas Bar
DESCRIPTION:As you may have already noticed\, Madrid has a thriving pop-up events culture including markets\, restaurants\, shows\, and more. On this occasion\, we’re looking at #TheHovse 2014\, hosted by La Vermutería\, a travelling vermouth bar\, and Better Es Mejor\, an agency that is also currently organizing The Table\, a pop-up restaurant at Hotel Urso. \nOpen from 12pm-9pm and located in a “house” on Calle General Arrando 40\, you should pop up for some vermouth\, tapas and music spun by a live DJ. It’ll be here until December 24th but it’s looking pretty packed already\, so go!
URL:https://www.nakedmadrid.com/event/the-hovse-pop-up-vermouth-tapas-bar/
LOCATION:The Hovse\, Calle General Arrando 40\, Madrid
CATEGORIES:Drinks,Food,Markets
ATTACH;FMTTYPE=image/jpeg:https://www.nakedmadrid.com/wp-content/uploads/2014/11/1400402_526818950795987_3381565987625948984_o-e1416825772833.jpg
END:VEVENT
END:VCALENDAR