BEGIN:VCALENDAR
VERSION:2.0
PRODID:-//Naked Madrid - ECPv5.2.1//NONSGML v1.0//EN
CALSCALE:GREGORIAN
METHOD:PUBLISH
X-WR-CALNAME:Naked Madrid
X-ORIGINAL-URL:https://www.nakedmadrid.com
X-WR-CALDESC:Events for Naked Madrid
BEGIN:VTIMEZONE
TZID:UTC
BEGIN:STANDARD
TZOFFSETFROM:+0000
TZOFFSETTO:+0000
TZNAME:UTC
DTSTART:20140101T000000
END:STANDARD
END:VTIMEZONE
BEGIN:VEVENT
DTSTART;TZID=UTC:20141116T100000
DTEND;TZID=UTC:20141116T140000
DTSTAMP:20260423T023111
CREATED:20141114T084345Z
LAST-MODIFIED:20141114T090353Z
UID:4266-1416132000-1416146400@www.nakedmadrid.com
SUMMARY:TEDx Youth Madrid: Watch under 20 year olds talk about their passions at Caixa Forum
DESCRIPTION:Madrid has a very active TEDx community. Every year\, the city holds a major TEDx Madrid event for up to 600 people. Every month\, free TEDx salons are held at La Casa Encendida where they screen past TED talks followed by open audience discussion. And throughout the year\, local neighborhoods host their very own talks\, such as TEDx Cibeles and even TEDx Gran Vía. \nWe at Naked Madrid find our favorite to be TEDxYouth Madrid\, which is taking place this Sunday at 10:00am at Caixa Forum. This annual event invites young speakers (under 20) to get up on stage and speak about their passions\, ambitions and projects (in Spanish). It is a truly inspiring event. \nYou must reserve your free ticket here. If the space fills up\, you’ll also have the opportunity to watch the live streaming. \n 
URL:https://www.nakedmadrid.com/event/tedxyouth-madrid-watch-under-20-year-olds-talk-about-their-passions-in-caixa-forum-free/
LOCATION:Caixa Forum\, Paseo del Prado\, 36\, Madrid
CATEGORIES:Talks
ATTACH;FMTTYPE=image/jpeg:https://www.nakedmadrid.com/wp-content/uploads/2014/11/560279_305460496186128_759664616_n.jpg
END:VEVENT
END:VCALENDAR