BEGIN:VCALENDAR
VERSION:2.0
PRODID:-//Naked Madrid - ECPv5.2.1//NONSGML v1.0//EN
CALSCALE:GREGORIAN
METHOD:PUBLISH
X-WR-CALNAME:Naked Madrid
X-ORIGINAL-URL:https://www.nakedmadrid.com
X-WR-CALDESC:Events for Naked Madrid
BEGIN:VTIMEZONE
TZID:UTC
BEGIN:STANDARD
TZOFFSETFROM:+0000
TZOFFSETTO:+0000
TZNAME:UTC
DTSTART:20150101T000000
END:STANDARD
END:VTIMEZONE
BEGIN:VEVENT
DTSTART;VALUE=DATE:20151119
DTEND;VALUE=DATE:20151123
DTSTAMP:20260422T233645
CREATED:20151118T110741Z
LAST-MODIFIED:20151118T110845Z
UID:8035-1447891200-1448236799@www.nakedmadrid.com
SUMMARY:Tapas Route around Pacífico – Try something new!
DESCRIPTION:Head over to a different neighborhood this weekend\, near metros Pacífico\, Menéndez Pelayo and Conde de Casal\, where you’ll find old-school bars presenting their finest and most abundant tapas. And they’ll cost you just 2€ with a caña or botellín. This is the first tapas route of the area and the perfect chance to try something new! \n#‎RutaDeTapasPacífico‬
URL:https://www.nakedmadrid.com/event/tapas-route-around-metro-pacifico-try-something-new/
ATTACH;FMTTYPE=image/png:https://www.nakedmadrid.com/wp-content/uploads/2015/11/ruta_tapas_pac_fico.png
END:VEVENT
END:VCALENDAR