BEGIN:VCALENDAR
VERSION:2.0
PRODID:-//Naked Madrid - ECPv5.2.1//NONSGML v1.0//EN
CALSCALE:GREGORIAN
METHOD:PUBLISH
X-WR-CALNAME:Naked Madrid
X-ORIGINAL-URL:https://www.nakedmadrid.com
X-WR-CALDESC:Events for Naked Madrid
BEGIN:VTIMEZONE
TZID:UTC
BEGIN:STANDARD
TZOFFSETFROM:+0000
TZOFFSETTO:+0000
TZNAME:UTC
DTSTART:20150101T000000
END:STANDARD
END:VTIMEZONE
BEGIN:VEVENT
DTSTART;TZID=UTC:20150131T110000
DTEND;TZID=UTC:20150201T170000
DTSTAMP:20260422T221013
CREATED:20150119T074212Z
LAST-MODIFIED:20150119T074541Z
UID:5193-1422702000-1422810000@www.nakedmadrid.com
SUMMARY:Tapas Festival at Madrid's Farmers' Market -- Mercado de Productores in Matadero
DESCRIPTION:One of Madrid’s best farmers’ markets — Mercado de Productores — is held once a month at El Matadero\, a cultural hub that was a former slaughterhouse. This weekend you can check out the stands selling local products from around the city and also join in on the market’s tapas fair\, where tapas made with fresh produce will cost you 1.50€ and you can also vote for your favorite. \nWhen:\nSaturday\, Jan. 31st — 11-7pm\nSunday\, Feb. 1st 11-5pm
URL:https://www.nakedmadrid.com/event/tapas-festival-at-madrids-farmers-market-mercado-de-productores-in-matadero/
LOCATION:Matadero Madrid\, Paseo de la Chopera\, 14
CATEGORIES:Drinks,Fair,Food,Markets
ATTACH;FMTTYPE=image/jpeg:https://www.nakedmadrid.com/wp-content/uploads/2015/01/10940415_1524790387798375_6954936349360584804_n.jpg
END:VEVENT
END:VCALENDAR