BEGIN:VCALENDAR
VERSION:2.0
PRODID:-//Naked Madrid - ECPv5.2.1//NONSGML v1.0//EN
CALSCALE:GREGORIAN
METHOD:PUBLISH
X-WR-CALNAME:Naked Madrid
X-ORIGINAL-URL:https://www.nakedmadrid.com
X-WR-CALDESC:Events for Naked Madrid
BEGIN:VTIMEZONE
TZID:UTC
BEGIN:STANDARD
TZOFFSETFROM:+0000
TZOFFSETTO:+0000
TZNAME:UTC
DTSTART:20160101T000000
END:STANDARD
END:VTIMEZONE
BEGIN:VEVENT
DTSTART;TZID=UTC:20160717T140000
DTEND;TZID=UTC:20160718T010000
DTSTAMP:20260423T010608
CREATED:20160711T123011Z
LAST-MODIFIED:20160711T123011Z
UID:9138-1468764000-1468803600@www.nakedmadrid.com
SUMMARY:Sunday Funday: After Brunch at Conde Duque
DESCRIPTION:After Brunch will be presenting its first Open Air Festival offering a great line up with the most sought after electronic music in Madrid\, food trucks and a flea market\, all together at Cine Garden Conde Duque\, a large patio which also hosts summer open air movie screenings. \nHours: Sunday July 17th from 2pm to 1am \nImportant info: To attend for free you need to sign up on the guest list by clicking attend on the Facebook event and posting your name as well as anyone who comes with you.
URL:https://www.nakedmadrid.com/event/sunday-funday-after-brunch-at-conde-duque/
LOCATION:Conde Duque\, Calle Conde Duque 11\, Madrid
CATEGORIES:art,Drinks,Fair,Festivals,Film,Food,Markets,music
ATTACH;FMTTYPE=image/jpeg:https://www.nakedmadrid.com/wp-content/uploads/2016/07/13590317_1062313507184043_8650585121278246455_n.jpg
END:VEVENT
END:VCALENDAR