BEGIN:VCALENDAR
VERSION:2.0
PRODID:-//Naked Madrid - ECPv5.2.1//NONSGML v1.0//EN
CALSCALE:GREGORIAN
METHOD:PUBLISH
X-WR-CALNAME:Naked Madrid
X-ORIGINAL-URL:https://www.nakedmadrid.com
X-WR-CALDESC:Events for Naked Madrid
BEGIN:VTIMEZONE
TZID:UTC
BEGIN:STANDARD
TZOFFSETFROM:+0000
TZOFFSETTO:+0000
TZNAME:UTC
DTSTART:20150101T000000
END:STANDARD
END:VTIMEZONE
BEGIN:VEVENT
DTSTART;VALUE=DATE:20150701
DTEND;VALUE=DATE:20150916
DTSTAMP:20260423T004810
CREATED:20150709T142713Z
LAST-MODIFIED:20150718T170116Z
UID:7240-1435708800-1442361599@www.nakedmadrid.com
SUMMARY:Madrid summer film festivals - open-air cinemas\, special screenings and more!
DESCRIPTION:Summer in Madrid is great if you like film\, because you’ll find tons of open-air screenings and the city’s theaters and museums offering special deals (i.e. tickets cost around 3€). For example\, Madrid’s Palacio de Cibeles sets up a big screen underneath its glass roof. The cultural center\, Conde Duque\, and the French Institute put on films in their courtyards. \nSorry we didn’t get around to writing up a list of all the best places to see movies in Madrid this summer\, but thankfully\, our friends at Spotahome have done all the work for us 🙂 \nHere’s Spotahome’s article: Madrid’s best summertime cinemas! 
URL:https://www.nakedmadrid.com/event/summer-film-festivals-open-air-cinemas-special-screenings-and-more/
CATEGORIES:Film
ATTACH;FMTTYPE=image/jpeg:https://www.nakedmadrid.com/wp-content/uploads/2015/07/20140913_135428-e1436452159882.jpg
END:VEVENT
END:VCALENDAR