BEGIN:VCALENDAR
VERSION:2.0
PRODID:-//Naked Madrid - ECPv5.2.1//NONSGML v1.0//EN
CALSCALE:GREGORIAN
METHOD:PUBLISH
X-WR-CALNAME:Naked Madrid
X-ORIGINAL-URL:https://www.nakedmadrid.com
X-WR-CALDESC:Events for Naked Madrid
BEGIN:VTIMEZONE
TZID:UTC
BEGIN:STANDARD
TZOFFSETFROM:+0000
TZOFFSETTO:+0000
TZNAME:UTC
DTSTART:20150101T000000
END:STANDARD
END:VTIMEZONE
BEGIN:VEVENT
DTSTART;TZID=UTC:20150402T190000
DTEND;TZID=UTC:20150402T190000
DTSTAMP:20260422T234807
CREATED:20150303T141055Z
LAST-MODIFIED:20150330T100423Z
UID:6006-1428001200-1428001200@www.nakedmadrid.com
SUMMARY:Café du Printemps at Desperate Literature
DESCRIPTION:Spend your Thursday night at Desperate Literature\, our favorite bookshop in Madrid. Enjoy some French style with pastis\, Beaujolais Nouveau\, stinky cheese and baguettes. Located near metros Santo Domingo and Opera\, if you’ve never been to this wonderful second-hand bookstore or don’t know the story behind it\, then check out our full post on it here. This place is very special and worth a visit for a number of reasons that you’ll discover when you go.
URL:https://www.nakedmadrid.com/event/story-hour-at-desperate-literature/
LOCATION:Desperate Literature\, c/ Campomanes 13\, Madrid
CATEGORIES:Drinks,Food,Talks
ATTACH;FMTTYPE=image/jpeg:https://www.nakedmadrid.com/wp-content/uploads/2015/03/10501848_1618022221749373_2649066290640159516_n.jpg
END:VEVENT
END:VCALENDAR