BEGIN:VCALENDAR
VERSION:2.0
PRODID:-//Naked Madrid - ECPv5.2.1//NONSGML v1.0//EN
CALSCALE:GREGORIAN
METHOD:PUBLISH
X-WR-CALNAME:Naked Madrid
X-ORIGINAL-URL:https://www.nakedmadrid.com
X-WR-CALDESC:Events for Naked Madrid
BEGIN:VTIMEZONE
TZID:UTC
BEGIN:STANDARD
TZOFFSETFROM:+0000
TZOFFSETTO:+0000
TZNAME:UTC
DTSTART:20150101T000000
END:STANDARD
END:VTIMEZONE
BEGIN:VEVENT
DTSTART;TZID=UTC:20150510T170000
DTEND;TZID=UTC:20150510T190000
DTSTAMP:20260423T004656
CREATED:20150429T160952Z
LAST-MODIFIED:20150429T160952Z
UID:6619-1431277200-1431284400@www.nakedmadrid.com
SUMMARY:Story Hour at Desperate Literature
DESCRIPTION:Join the guys at our favorite bookstore\, Desperate Literature (Calle Campomanes\, 13)\, for an hour of children’s stories and baked fun. There will be stories\, milk and cookies for one and all.
URL:https://www.nakedmadrid.com/event/story-hour-at-desperate-literature-2/
LOCATION:Desperate Literature\, c/ Campomanes 13\, Madrid
CATEGORIES:Workshops
ATTACH;FMTTYPE=image/png:https://www.nakedmadrid.com/wp-content/uploads/2015/04/unnamed.png
END:VEVENT
END:VCALENDAR