BEGIN:VCALENDAR
VERSION:2.0
PRODID:-//Naked Madrid - ECPv5.2.1//NONSGML v1.0//EN
CALSCALE:GREGORIAN
METHOD:PUBLISH
X-WR-CALNAME:Naked Madrid
X-ORIGINAL-URL:https://www.nakedmadrid.com
X-WR-CALDESC:Events for Naked Madrid
BEGIN:VTIMEZONE
TZID:UTC
BEGIN:STANDARD
TZOFFSETFROM:+0000
TZOFFSETTO:+0000
TZNAME:UTC
DTSTART:20160101T000000
END:STANDARD
END:VTIMEZONE
BEGIN:VEVENT
DTSTART;TZID=UTC:20160318T200000
DTEND;TZID=UTC:20160318T220000
DTSTAMP:20260423T010505
CREATED:20160315T093519Z
LAST-MODIFIED:20160315T093519Z
UID:8836-1458331200-1458338400@www.nakedmadrid.com
SUMMARY:Sonia Bueno: The Monthly Poetry Event
DESCRIPTION:This month Desperate Literature is proud to present contemporary Spanish poet Sonia Bueno! Sonia Bueno studied right here in Madrid at the Universidad Complutense and still lives and writes in Madrid. She has published two collections: Retales (2011\, winner of the 1st International Poetry Prize from the Fundación Centro de Poesía José Hierro)\, and Aral (2016). Gather your friends and come spend a night listening to Sonia Bueno reading some of her poetry in the quaint and cozy location of Desperate Literature.
URL:https://www.nakedmadrid.com/event/sonia-bueno-the-monthly-poetry-event/
LOCATION:Desperate Literature\, c/ Campomanes 13\, Madrid
CATEGORIES:Books,Talks
ATTACH;FMTTYPE=image/jpeg:https://www.nakedmadrid.com/wp-content/uploads/2016/03/12821423_1731291710422423_3185365931945101937_n.jpg
END:VEVENT
END:VCALENDAR