BEGIN:VCALENDAR
VERSION:2.0
PRODID:-//Naked Madrid - ECPv5.2.1//NONSGML v1.0//EN
CALSCALE:GREGORIAN
METHOD:PUBLISH
X-WR-CALNAME:Naked Madrid
X-ORIGINAL-URL:https://www.nakedmadrid.com
X-WR-CALDESC:Events for Naked Madrid
BEGIN:VTIMEZONE
TZID:UTC
BEGIN:STANDARD
TZOFFSETFROM:+0000
TZOFFSETTO:+0000
TZNAME:UTC
DTSTART:20170101T000000
END:STANDARD
END:VTIMEZONE
BEGIN:VEVENT
DTSTART;TZID=UTC:20170423T120000
DTEND;TZID=UTC:20170423T210000
DTSTAMP:20260422T233233
CREATED:20160414T102649Z
LAST-MODIFIED:20170417T071228Z
UID:9028-1492948800-1492981200@www.nakedmadrid.com
SUMMARY:Rave Market – Special Psychedelic Edition
DESCRIPTION:The highly popular Rave Market is hosting a psychedelic-themed edition at Shoko nightclub in La Latina this Sunday. More than 40 stands will be selling design and second-hand items\, including clothing and accessories. There’ll also be live music\, performances\, art exhibits and drinks to go around!
URL:https://www.nakedmadrid.com/event/rave-market-special-lgtb-event/
LOCATION:Shoko\, c/ Toledo 86\, Madrid\, Spain
CATEGORIES:art,Fair,Markets,music
ATTACH;FMTTYPE=image/jpeg:https://www.nakedmadrid.com/wp-content/uploads/2016/04/rave-market.jpg
END:VEVENT
END:VCALENDAR