BEGIN:VCALENDAR
VERSION:2.0
PRODID:-//Naked Madrid - ECPv5.2.1//NONSGML v1.0//EN
CALSCALE:GREGORIAN
METHOD:PUBLISH
X-WR-CALNAME:Naked Madrid
X-ORIGINAL-URL:https://www.nakedmadrid.com
X-WR-CALDESC:Events for Naked Madrid
BEGIN:VTIMEZONE
TZID:UTC
BEGIN:STANDARD
TZOFFSETFROM:+0000
TZOFFSETTO:+0000
TZNAME:UTC
DTSTART:20160101T000000
END:STANDARD
END:VTIMEZONE
BEGIN:VEVENT
DTSTART;TZID=UTC:20160131T120000
DTEND;TZID=UTC:20160131T210000
DTSTAMP:20260423T010522
CREATED:20160121T093546Z
LAST-MODIFIED:20160121T093546Z
UID:8335-1454241600-1454274000@www.nakedmadrid.com
SUMMARY:Rave Market: shop second-hand in a nightclub!
DESCRIPTION:Shoko\, one of Madrid’s nightclubs in La Latina\, will be opening its doors all day Sunday to host a unique event called Rave Market\, where you’ll find second-hand items\, music\, art and design. Apparently this edition is a “flirting special”… not sure what that means but we’ll be there to find out 🙂
URL:https://www.nakedmadrid.com/event/rave-market-shop-second-hand-in-a-nightclub/
LOCATION:Shoko\, c/ Toledo 86\, Madrid\, Spain
ATTACH;FMTTYPE=image/jpeg:https://www.nakedmadrid.com/wp-content/uploads/2016/01/Rave-Market-Madrid-January-2015.jpg
END:VEVENT
END:VCALENDAR