BEGIN:VCALENDAR
VERSION:2.0
PRODID:-//Naked Madrid - ECPv5.2.1//NONSGML v1.0//EN
CALSCALE:GREGORIAN
METHOD:PUBLISH
X-WR-CALNAME:Naked Madrid
X-ORIGINAL-URL:https://www.nakedmadrid.com
X-WR-CALDESC:Events for Naked Madrid
BEGIN:VTIMEZONE
TZID:UTC
BEGIN:STANDARD
TZOFFSETFROM:+0000
TZOFFSETTO:+0000
TZNAME:UTC
DTSTART:20150101T000000
END:STANDARD
END:VTIMEZONE
BEGIN:VEVENT
DTSTART;TZID=UTC:20151209T110000
DTEND;TZID=UTC:20151224T210000
DTSTAMP:20260423T024822
CREATED:20151210T091831Z
LAST-MODIFIED:20151210T092015Z
UID:8207-1449658800-1450990800@www.nakedmadrid.com
SUMMARY:Pop-up San Lorenzo in Malasaña – Mercado de Diseño
DESCRIPTION:The Mercado de Diseño\, whose usual home is El Matadero\, is organizing a pop-up edition this year from December 9-24 (11am-9pm) in Malasaña; they’ve set up their very own pop-up store on San Lorenzo street where you’ll find stands\, workshops and other activities. Among the participating brands are Moisés Nieto\, Pablo Erroz\, Hidraulik\, Smood Studio\, Lord Wilmore\, Octagon\, Lali y Bela o Ana Prada. \n(and the event will come back to its home at El Matadero on January 2nd and 3rd) \n\nDate: December 9 – 24\, from 11am-9pm \nPlace: San Lorenzo\, 5 (<M> Tribunal).
URL:https://www.nakedmadrid.com/event/pop-up-san-lorenzo-in-malasana-mercado-de-diseno/
LOCATION:San Lorenzo Patio\, Calle San Lorenzo\, 5\, Madrid
CATEGORIES:Fair,Markets
ATTACH;FMTTYPE=image/jpeg:https://www.nakedmadrid.com/wp-content/uploads/2015/12/pop-up-San-Lorenzo-Mercado-de-Diseño-Madrid.jpg
END:VEVENT
END:VCALENDAR