BEGIN:VCALENDAR
VERSION:2.0
PRODID:-//Naked Madrid - ECPv5.2.1//NONSGML v1.0//EN
CALSCALE:GREGORIAN
METHOD:PUBLISH
X-WR-CALNAME:Naked Madrid
X-ORIGINAL-URL:https://www.nakedmadrid.com
X-WR-CALDESC:Events for Naked Madrid
BEGIN:VTIMEZONE
TZID:UTC
BEGIN:STANDARD
TZOFFSETFROM:+0000
TZOFFSETTO:+0000
TZNAME:UTC
DTSTART:20150101T000000
END:STANDARD
END:VTIMEZONE
BEGIN:VEVENT
DTSTART;TZID=UTC:20150116T110000
DTEND;TZID=UTC:20150118T210000
DTSTAMP:20260423T010303
CREATED:20150116T140308Z
LAST-MODIFIED:20150116T140713Z
UID:5158-1421406000-1421614800@www.nakedmadrid.com
SUMMARY:"Pop Up Chic" Market
DESCRIPTION:If you like fashion\, then you’ll love Pop Up Chic Market. Here you’ll find clothes\, accessories and decoration ideas\, all at discount prices. \nSince it’s a pop-up market\, it is held at different locations each month. This weekend it’s at Calle Lagasca\, 54 in Barrio Salamanca\, near metros Goya\, Velazquez\, Serrano. \nDates & Hours: \nFriday 16th – 11am-9pm\nSaturday 17th – 11am-9pm\nSunday 18th – 11am-9pm\n 
URL:https://www.nakedmadrid.com/event/pop-up-chic-market/
LOCATION:“Moda Pop Up” Market\, Goya 48\, Madrid\, Madrid\, Spain
CATEGORIES:Markets
ATTACH;FMTTYPE=image/png:https://www.nakedmadrid.com/wp-content/uploads/2015/01/10899990_839494252785094_1340443584097076828_o-e1421408907669.png
END:VEVENT
END:VCALENDAR