BEGIN:VCALENDAR
VERSION:2.0
PRODID:-//Naked Madrid - ECPv5.2.1//NONSGML v1.0//EN
CALSCALE:GREGORIAN
METHOD:PUBLISH
X-WR-CALNAME:Naked Madrid
X-ORIGINAL-URL:https://www.nakedmadrid.com
X-WR-CALDESC:Events for Naked Madrid
BEGIN:VTIMEZONE
TZID:UTC
BEGIN:STANDARD
TZOFFSETFROM:+0000
TZOFFSETTO:+0000
TZNAME:UTC
DTSTART:20150101T000000
END:STANDARD
END:VTIMEZONE
BEGIN:VEVENT
DTSTART;TZID=UTC:20150522T190000
DTEND;TZID=UTC:20150522T210000
DTSTAMP:20260423T023009
CREATED:20150504T074308Z
LAST-MODIFIED:20150504T074308Z
UID:6632-1432321200-1432328400@www.nakedmadrid.com
SUMMARY:Poetry Reading by James Womack at Desperate Literature
DESCRIPTION:On May 22 at 7pm\, Madrid-based poet James Womack will be reading from his latest collection\, ‘Misprints’ from Carcanet Press\, at Desperate Literature – our favorite bookstore. Located near metro Santo Domingo\, Desperate Literature sells quality books in different languages and holds delightful and free events like this one\, always involving a few bottles of wine and some treats. So don’t miss it! \nHere’s a full post of ours on Desperate Literature if you’d like to learn the story behind it: \nDesperate Literature\, for book lovers in Santorini\, Brooklyn and now Madrid!
URL:https://www.nakedmadrid.com/event/poetry-reading-by-james-womack-at-desperate-literature/
LOCATION:Desperate Literature\, c/ Campomanes 13\, Madrid
CATEGORIES:art,Talks
ATTACH;FMTTYPE=image/jpeg:https://www.nakedmadrid.com/wp-content/uploads/2015/05/11221631_1632089683675960_8427769673643356273_o.jpg
END:VEVENT
END:VCALENDAR