BEGIN:VCALENDAR
VERSION:2.0
PRODID:-//Naked Madrid - ECPv5.2.1//NONSGML v1.0//EN
CALSCALE:GREGORIAN
METHOD:PUBLISH
X-WR-CALNAME:Naked Madrid
X-ORIGINAL-URL:https://www.nakedmadrid.com
X-WR-CALDESC:Events for Naked Madrid
BEGIN:VTIMEZONE
TZID:UTC
BEGIN:STANDARD
TZOFFSETFROM:+0000
TZOFFSETTO:+0000
TZNAME:UTC
DTSTART:20160101T000000
END:STANDARD
END:VTIMEZONE
BEGIN:VEVENT
DTSTART;TZID=UTC:20160122T200000
DTEND;TZID=UTC:20160122T220000
DTSTAMP:20260422T234810
CREATED:20160121T092421Z
LAST-MODIFIED:20160121T092421Z
UID:8330-1453492800-1453500000@www.nakedmadrid.com
SUMMARY:Poetry Reading at Desperate Literature (with vodka!)
DESCRIPTION:Head over to Desperate Literature on Friday night at 8pm for an evening of poetry with James and Marian Womack\, reading from James’s newest translations of the great Vladimir Mayakovsky. Thanks go out to Carcanet Press for giving Desperate Literature the rights to print a limited edition pamphlet of the poems to accompany the evening. \nNot only will there be poetry\, but we’ll also be swilling Vodka like there’s no tomorrow!
URL:https://www.nakedmadrid.com/event/poetry-reading-at-desperate-literature-with-vodka/
LOCATION:Desperate Literature\, c/ Campomanes 13\, Madrid
CATEGORIES:art,Books,Drinks
ATTACH;FMTTYPE=image/jpeg:https://www.nakedmadrid.com/wp-content/uploads/2016/01/Desperate-Literature-Event-Madrid.jpg
END:VEVENT
END:VCALENDAR