BEGIN:VCALENDAR
VERSION:2.0
PRODID:-//Naked Madrid - ECPv5.2.1//NONSGML v1.0//EN
CALSCALE:GREGORIAN
METHOD:PUBLISH
X-WR-CALNAME:Naked Madrid
X-ORIGINAL-URL:https://www.nakedmadrid.com
X-WR-CALDESC:Events for Naked Madrid
BEGIN:VTIMEZONE
TZID:UTC
BEGIN:STANDARD
TZOFFSETFROM:+0000
TZOFFSETTO:+0000
TZNAME:UTC
DTSTART:20150101T000000
END:STANDARD
END:VTIMEZONE
BEGIN:VEVENT
DTSTART;TZID=UTC:20150328T180000
DTEND;TZID=UTC:20150328T230000
DTSTAMP:20260423T012035
CREATED:20150327T132721Z
LAST-MODIFIED:20150327T132721Z
UID:6447-1427565600-1427583600@www.nakedmadrid.com
SUMMARY:Patio de Tango in Malasaña
DESCRIPTION:This Saturday night\, delight in the Argentine culture! Check out Patio de Tango at Espíritu23\, a cultural center in Malasaña. On this occasion\, you’ll get to attend dance classes and performances. All this is accompanied with traditional Argentine food and drinks! 😉 \nFor more information and bookings\, send an mail to patiodetango@espiritu23.com.
URL:https://www.nakedmadrid.com/event/patio-de-tango-in-malasana/
LOCATION:Espiritu 23\, c/ Espiritu Santo 23\, Madrid\, Spain
CATEGORIES:Drinks,music
ATTACH;FMTTYPE=image/jpeg:https://www.nakedmadrid.com/wp-content/uploads/2015/03/Foto-Patio-Marcelo1-ficha-702x336.jpg
END:VEVENT
END:VCALENDAR