BEGIN:VCALENDAR
VERSION:2.0
PRODID:-//Naked Madrid - ECPv5.2.1//NONSGML v1.0//EN
CALSCALE:GREGORIAN
METHOD:PUBLISH
X-WR-CALNAME:Naked Madrid
X-ORIGINAL-URL:https://www.nakedmadrid.com
X-WR-CALDESC:Events for Naked Madrid
BEGIN:VTIMEZONE
TZID:UTC
BEGIN:STANDARD
TZOFFSETFROM:+0000
TZOFFSETTO:+0000
TZNAME:UTC
DTSTART:20150101T000000
END:STANDARD
END:VTIMEZONE
BEGIN:VEVENT
DTSTART;TZID=UTC:20150508T220000
DTEND;TZID=UTC:20150508T233000
DTSTAMP:20260423T012324
CREATED:20150306T115103Z
LAST-MODIFIED:20150505T092555Z
UID:6015-1431122400-1431127800@www.nakedmadrid.com
SUMMARY:Of Moths and Stars plays an Acoustic Gig in Tribunal
DESCRIPTION:Come enjoy rock’n’roll music Thursday evening at Club Maravillas and check out Of Moths and Stars‘ acoustic gig. Expect it to be raw and uncut – this time with a full support of a rock’n’roll band\, so this is sure to be electric. \n5€ or 9€ entry with 2 drinks. \nListen to their latest demos here.
URL:https://www.nakedmadrid.com/event/of-moths-and-stars-plays-an-acoustic-gig-in-malasana/
LOCATION:Club Maravillas\, Calle San Vicente Ferrer\, 33\, Madrid
CATEGORIES:Drinks,music
ATTACH;FMTTYPE=image/jpeg:https://www.nakedmadrid.com/wp-content/uploads/2015/03/11122510_10152770584825966_431531902_n-e1430817839908.jpg
END:VEVENT
END:VCALENDAR