BEGIN:VCALENDAR
VERSION:2.0
PRODID:-//Naked Madrid - ECPv5.2.1//NONSGML v1.0//EN
CALSCALE:GREGORIAN
METHOD:PUBLISH
X-WR-CALNAME:Naked Madrid
X-ORIGINAL-URL:https://www.nakedmadrid.com
X-WR-CALDESC:Events for Naked Madrid
BEGIN:VTIMEZONE
TZID:UTC
BEGIN:STANDARD
TZOFFSETFROM:+0000
TZOFFSETTO:+0000
TZNAME:UTC
DTSTART:20150101T000000
END:STANDARD
END:VTIMEZONE
BEGIN:VEVENT
DTSTART;TZID=UTC:20151211T120000
DTEND;TZID=UTC:20151213T210000
DTSTAMP:20260423T024633
CREATED:20141118T185310Z
LAST-MODIFIED:20151113T084654Z
UID:4321-1449835200-1450040400@www.nakedmadrid.com
SUMMARY:Nomada Christmas Market – independent design market on the top floor of Chamartín!
DESCRIPTION:Madrid has tons of Christmas markets and one of the best ones is Nomada Market\, which is taking place on the top floor of Charmartín train station from Nov 11-13. More than 80\,000 people have visited the market over its last 10 years of success! Entrance is just €1 (free for children) \n  \n\n  \n  \n 
URL:https://www.nakedmadrid.com/event/nomada-market-christmas-edition/
LOCATION:La Estación de Chamartín
CATEGORIES:Fair,Markets
ATTACH;FMTTYPE=image/jpeg:https://www.nakedmadrid.com/wp-content/uploads/2014/11/nomada-market-madrid.jpg
END:VEVENT
END:VCALENDAR