BEGIN:VCALENDAR
VERSION:2.0
PRODID:-//Naked Madrid - ECPv5.2.1//NONSGML v1.0//EN
CALSCALE:GREGORIAN
METHOD:PUBLISH
X-WR-CALNAME:Naked Madrid
X-ORIGINAL-URL:https://www.nakedmadrid.com
X-WR-CALDESC:Events for Naked Madrid
BEGIN:VTIMEZONE
TZID:UTC
BEGIN:STANDARD
TZOFFSETFROM:+0000
TZOFFSETTO:+0000
TZNAME:UTC
DTSTART:20150101T000000
END:STANDARD
END:VTIMEZONE
BEGIN:VEVENT
DTSTART;VALUE=DATE:20150127
DTEND;VALUE=DATE:20150208
DTSTAMP:20260423T004818
CREATED:20150127T165313Z
LAST-MODIFIED:20150127T165313Z
UID:5410-1422316800-1423353599@www.nakedmadrid.com
SUMMARY:New York & Madrid\, Brought Together in FREE 80's Photography Exhibit!
DESCRIPTION:What do the New York City of Andy Warhol and the Madrid of Pedro Almodóvar have in common? Come to Mondo Galeria in Chueca to find out! Now until February 7th\, the gallery is exhibiting the works of iconic photographer Javier Porto\, whose art captured the pop and street cultures of 1980s NYC and Madrid. Many people have talked about a culture change or movida during this time but what was it exactly? Who did it represent? This exhibit\, titled Semblanzas de Ida y Vuelta\, provides insight into this fascinating phenomenon. \n(Tues. – Sat. 11am-8:30pm)
URL:https://www.nakedmadrid.com/event/new-york-madrid-brought-together-in-free-80s-photography-exhibit/
LOCATION:Galería Mondo\, Calle San Lucas\, 9 \, Madrid \, 28004
CATEGORIES:art,exhibit,photography
ATTACH;FMTTYPE=image/jpeg:https://www.nakedmadrid.com/wp-content/uploads/2015/01/Javier-Porto-MONDO-GALERIA.jpg
END:VEVENT
END:VCALENDAR