BEGIN:VCALENDAR
VERSION:2.0
PRODID:-//Naked Madrid - ECPv5.2.1//NONSGML v1.0//EN
CALSCALE:GREGORIAN
METHOD:PUBLISH
X-WR-CALNAME:Naked Madrid
X-ORIGINAL-URL:https://www.nakedmadrid.com
X-WR-CALDESC:Events for Naked Madrid
BEGIN:VTIMEZONE
TZID:UTC
BEGIN:STANDARD
TZOFFSETFROM:+0000
TZOFFSETTO:+0000
TZNAME:UTC
DTSTART:20150101T000000
END:STANDARD
END:VTIMEZONE
BEGIN:VEVENT
DTSTART;TZID=UTC:20150612T170000
DTEND;TZID=UTC:20150614T150000
DTSTAMP:20260423T010635
CREATED:20150312T132742Z
LAST-MODIFIED:20150527T102215Z
UID:6167-1434128400-1434294000@www.nakedmadrid.com
SUMMARY:Mercado Susi Sweet Dress – a vintage dress market in Malasaña
DESCRIPTION:Check out this vintage dress market in Malasaña called Susi Sweet Dress. Held in an innovative co-working space – La Industrial – you’ll find more than 800 unique vintage dresses for only €30! Also\, get your makeup done and beauty advice for free 😉 \nWhen? \nFriday: 5 p.m. – 9 p.m.\nSaturday: 12 p.m. – 9 p.m.\nSunday: 12 p.m. – 3 p.m.
URL:https://www.nakedmadrid.com/event/mercado-susisweetdress-a-dress-market-in-malasana/
LOCATION:La Industrial\, Calle de San Andrés\, 8\, Madrid\, Spain
CATEGORIES:Fair,Markets
ATTACH;FMTTYPE=image/jpeg:https://www.nakedmadrid.com/wp-content/uploads/2015/03/10987351_892707450751915_5639354012838873072_n-e1426156342487.jpg
END:VEVENT
END:VCALENDAR