BEGIN:VCALENDAR
VERSION:2.0
PRODID:-//Naked Madrid - ECPv5.2.1//NONSGML v1.0//EN
CALSCALE:GREGORIAN
METHOD:PUBLISH
X-WR-CALNAME:Naked Madrid
X-ORIGINAL-URL:https://www.nakedmadrid.com
X-WR-CALDESC:Events for Naked Madrid
BEGIN:VTIMEZONE
TZID:UTC
BEGIN:STANDARD
TZOFFSETFROM:+0000
TZOFFSETTO:+0000
TZNAME:UTC
DTSTART:20150101T000000
END:STANDARD
END:VTIMEZONE
BEGIN:VEVENT
DTSTART;VALUE=DATE:20150704
DTEND;VALUE=DATE:20150705
DTSTAMP:20260423T012248
CREATED:20141101T085612Z
LAST-MODIFIED:20150702T144615Z
UID:4166-1435968000-1436054399@www.nakedmadrid.com
SUMMARY:Mercado de las Ranas (the Frogs' Market) in Barrio de las Letras
DESCRIPTION:All the shops in this charming Madrileño neighborhood — El Barrio de las Letras — come together to celebrate The Frogs’ Market on the first Saturday of every month. Amongst the neighborhood’s sweet streets\, local stores offer all types of events and activities\, from tapas and vermouth tastings\, to art exhibitions and story-telling sessions for the little ones. \nIf you find yourself in the center of Madrid on Saturday\, don’t miss out on this lovely neighborhood market and find\, amongst its nooks and crannies\, the array of treats that the Frogs’ Market has to offer. \nAlso check out the hashtag #mercadodelasranas for more info \n 
URL:https://www.nakedmadrid.com/event/mercado-de-las-ranas-the-frogs-market-in-barrio-de-las-letras/
LOCATION:Asociación de Comerciantes Barrio de las Letras
CATEGORIES:Drinks,Festivals,Food,Markets
ATTACH;FMTTYPE=image/jpeg:https://www.nakedmadrid.com/wp-content/uploads/2014/11/mapa_2junio-reverso.1.jpg
END:VEVENT
END:VCALENDAR