BEGIN:VCALENDAR
VERSION:2.0
PRODID:-//Naked Madrid - ECPv5.2.1//NONSGML v1.0//EN
CALSCALE:GREGORIAN
METHOD:PUBLISH
X-WR-CALNAME:Naked Madrid
X-ORIGINAL-URL:https://www.nakedmadrid.com
X-WR-CALDESC:Events for Naked Madrid
BEGIN:VTIMEZONE
TZID:UTC
BEGIN:STANDARD
TZOFFSETFROM:+0000
TZOFFSETTO:+0000
TZNAME:UTC
DTSTART:20150101T000000
END:STANDARD
END:VTIMEZONE
BEGIN:VEVENT
DTSTART;TZID=UTC:20150704T120000
DTEND;TZID=UTC:20150705T220000
DTSTAMP:20260422T221026
CREATED:20141101T084017Z
LAST-MODIFIED:20150709T141746Z
UID:4159-1436011200-1436133600@www.nakedmadrid.com
SUMMARY:Mercado de la buena vida\, the Hub's monthly ecological and local market!
DESCRIPTION:To help us all deal with this crazy heat wave\, Impact Hub Madrid\, an innovation center near Atocha\, is holding its last Mercado de la buena vida (the good life market) of the season\, on Saturday and Sunday from 12pm-10pm\, with free entrance. For this “refreshing” edition\, the market will be holding a water fight for the little ones\, beer tastings for the older ones\, and much more. Here’s more info on the event.  \n 
URL:https://www.nakedmadrid.com/event/mercado-de-la-buena-vida-the-hubs-monthly-ecological-and-local-market/
LOCATION:Impact Hub\, Calle del Gobernador\, 26\, Madrid\, Madrid\, 28014\, Spain
CATEGORIES:Drinks,Festivals,Food,Markets
ATTACH;FMTTYPE=image/png:https://www.nakedmadrid.com/wp-content/uploads/2014/11/impact-hub-mercado-de-la-buena-vida-julio.png
END:VEVENT
END:VCALENDAR