BEGIN:VCALENDAR
VERSION:2.0
PRODID:-//Naked Madrid - ECPv5.2.1//NONSGML v1.0//EN
CALSCALE:GREGORIAN
METHOD:PUBLISH
X-WR-CALNAME:Naked Madrid
X-ORIGINAL-URL:https://www.nakedmadrid.com
X-WR-CALDESC:Events for Naked Madrid
BEGIN:VTIMEZONE
TZID:UTC
BEGIN:STANDARD
TZOFFSETFROM:+0000
TZOFFSETTO:+0000
TZNAME:UTC
DTSTART:20150101T000000
END:STANDARD
END:VTIMEZONE
BEGIN:VEVENT
DTSTART;TZID=UTC:20150313T110000
DTEND;TZID=UTC:20150315T213000
DTSTAMP:20260422T233201
CREATED:20150313T113306Z
LAST-MODIFIED:20150313T120634Z
UID:6178-1426244400-1426455000@www.nakedmadrid.com
SUMMARY:Malasaña Market invades Espacio Isla Barceló
DESCRIPTION:This weekend\, Malasaña’s spirit will invade Espacio Isla Barceló\, a huge market and events space near Tribunal. Expect the venue to be full of clothing stands\, food stalls\, art\, and much more.
URL:https://www.nakedmadrid.com/event/malasana-market-invades-espacio-isla-barcelo/
LOCATION:Espacio Isla Barceló\, Calle Barceló\, 6\, Madrid
CATEGORIES:art,Drinks,exhibit,Festivals,Food
ATTACH;FMTTYPE=image/jpeg:https://www.nakedmadrid.com/wp-content/uploads/2015/03/522140_1548602198742519_2070515534845542008_n-e1426245731602.jpg
END:VEVENT
END:VCALENDAR