BEGIN:VCALENDAR
VERSION:2.0
PRODID:-//Naked Madrid - ECPv5.2.1//NONSGML v1.0//EN
CALSCALE:GREGORIAN
METHOD:PUBLISH
X-WR-CALNAME:Naked Madrid
X-ORIGINAL-URL:https://www.nakedmadrid.com
X-WR-CALDESC:Events for Naked Madrid
BEGIN:VTIMEZONE
TZID:UTC
BEGIN:STANDARD
TZOFFSETFROM:+0000
TZOFFSETTO:+0000
TZNAME:UTC
DTSTART:20170101T000000
END:STANDARD
END:VTIMEZONE
BEGIN:VEVENT
DTSTART;TZID=UTC:20170622T190000
DTEND;TZID=UTC:20170622T210000
DTSTAMP:20260423T010457
CREATED:20170517T083950Z
LAST-MODIFIED:20170517T083950Z
UID:10178-1498158000-1498165200@www.nakedmadrid.com
SUMMARY:Making investments for Americans abroad: what you need to know
DESCRIPTION:This event is designed to provide information on how to build a secure financial future while staying in compliance with the IRS. \nYou’ll discover the do’s and don’ts when investing as an American abroad: what not to do (ostrich strategy)\, how to open a US account from abroad\, and what things to consider when investing. You’ll learn about the PFIC and Form 8621. \nSpeakers: James Levy (Clearwater Private Investments) and Antonio Rodriguez (US Tax Consultants) \nRegistration is required: https://acmneedtoknowinvestmentsforamericanslivinginspain.eventbrite.com
URL:https://www.nakedmadrid.com/event/making-investments-for-americans-abroad/
LOCATION:Madrid\, Madrid\, Madrid\, Spain
CATEGORIES:Talks
ATTACH;FMTTYPE=image/jpeg:https://www.nakedmadrid.com/wp-content/uploads/2017/05/7686801008_7fa5706e90_b.jpg
END:VEVENT
END:VCALENDAR