BEGIN:VCALENDAR
VERSION:2.0
PRODID:-//Naked Madrid - ECPv5.2.1//NONSGML v1.0//EN
CALSCALE:GREGORIAN
METHOD:PUBLISH
X-WR-CALNAME:Naked Madrid
X-ORIGINAL-URL:https://www.nakedmadrid.com
X-WR-CALDESC:Events for Naked Madrid
BEGIN:VTIMEZONE
TZID:UTC
BEGIN:STANDARD
TZOFFSETFROM:+0000
TZOFFSETTO:+0000
TZNAME:UTC
DTSTART:20150101T000000
END:STANDARD
END:VTIMEZONE
BEGIN:VEVENT
DTSTART;VALUE=DATE:20150701
DTEND;VALUE=DATE:20150705
DTSTAMP:20260423T022846
CREATED:20150624T145143Z
LAST-MODIFIED:20150624T145608Z
UID:7108-1435708800-1436054399@www.nakedmadrid.com
SUMMARY:Madrid Gay Pride 2015 – Madrid Orgullo 2015
DESCRIPTION:Madrid has one of the greatest and most popular gay pride parties in the world. This doesn’t come as a big surprise if you take into account that Spain is the world’s most gay-friendly country and also one that loves to party… outside. This year’s Orgullo festivities will run for four days\, from July 1-4\, and include a number of activities. Our favorite is always the “high heels” race on Thursday\, July 2nd\, where brave men put on crazy high heels and race down Calle Pelayo. \nThe heart of the event will take place in Plaza de Chueca\, where you’ll find plenty of concerts and people drinking outside. The main parade will take place on Saturday\, July 4th at 6:30pm – party buses will ride along Paseo de Recoletos and La Castellana until they reach Plaza de Colon. The whole area will be crowded with thousands and thousands of people. \nOther main squares to check out are Plaza de Callao\, la Luna and del Rey\, which will all be jam-packed with parties and activities. \nYou can find out about all the event details on the English webpage here 
URL:https://www.nakedmadrid.com/event/madrid-gay-pride-2015-madrid-orgullo-2015/
CATEGORIES:Drinks,Festivals,music,Races
ATTACH;FMTTYPE=image/jpeg:https://www.nakedmadrid.com/wp-content/uploads/2015/06/chueca_horizontal-e1435157609734.jpg
END:VEVENT
END:VCALENDAR