BEGIN:VCALENDAR
VERSION:2.0
PRODID:-//Naked Madrid - ECPv5.2.1//NONSGML v1.0//EN
CALSCALE:GREGORIAN
METHOD:PUBLISH
X-WR-CALNAME:Naked Madrid
X-ORIGINAL-URL:https://www.nakedmadrid.com
X-WR-CALDESC:Events for Naked Madrid
BEGIN:VTIMEZONE
TZID:UTC
BEGIN:STANDARD
TZOFFSETFROM:+0000
TZOFFSETTO:+0000
TZNAME:UTC
DTSTART:20140101T000000
END:STANDARD
END:VTIMEZONE
BEGIN:VEVENT
DTSTART;TZID=UTC:20141116T130000
DTEND;TZID=UTC:20141116T170000
DTSTAMP:20260423T024936
CREATED:20141112T172429Z
LAST-MODIFIED:20141112T172429Z
UID:4227-1416142800-1416157200@www.nakedmadrid.com
SUMMARY:La Vermutería to host Sunday vermouth aperitivo at Muy Placer en Conserva
DESCRIPTION:What are you doing on Sunday? Because La Vermutería Pop Up is hosting a vermouth party at bar Muy Placer en Conserva in Malsaña at 1pm. Free entrance! Expect lots of people\, great music spun by Orlando Djs\, vermouth from Bodegas Valdovinos (2€) and tasty tapas (1-4€). \n \nWhat’s La Vermutería?\nLa Vermutería Pop Up is a travelling vermouth bar founded by two foodies — Paula Móvil & Roberto Castán — and created in collaboration with the online food magazine\, Plateselector.com. The idea is to take over different Madrid venues to throw aperitivos\, mini-cocktail parties where the star drink is the one and only: Vermouth. \nEach party features a different brand of vermouth\, usually not (yet) well known amongst Madrileños. For parents who don’t want to miss out on the party\, there will be child-friendly play areas\, places to park strollers (as long as the venue allows it)\, games and butanos (a famous orange drink from León).
URL:https://www.nakedmadrid.com/event/la-vermuteria-to-host-sunday-vermouth-aperitivo-at-muy-placer-en-conserva/
LOCATION:Muy Placer en Conserva\, c/ Amaniel 36\, Madrid
CATEGORIES:Drinks
ATTACH;FMTTYPE=image/png:https://www.nakedmadrid.com/wp-content/uploads/2014/11/1961038_522114397933109_7684143340478873396_o.png
END:VEVENT
END:VCALENDAR