BEGIN:VCALENDAR
VERSION:2.0
PRODID:-//Naked Madrid - ECPv5.2.1//NONSGML v1.0//EN
CALSCALE:GREGORIAN
METHOD:PUBLISH
X-WR-CALNAME:Naked Madrid
X-ORIGINAL-URL:https://www.nakedmadrid.com
X-WR-CALDESC:Events for Naked Madrid
BEGIN:VTIMEZONE
TZID:UTC
BEGIN:STANDARD
TZOFFSETFROM:+0000
TZOFFSETTO:+0000
TZNAME:UTC
DTSTART:20170101T000000
END:STANDARD
END:VTIMEZONE
BEGIN:VEVENT
DTSTART;TZID=UTC:20170422T120000
DTEND;TZID=UTC:20170422T144500
DTSTAMP:20260423T023009
CREATED:20160711T122723Z
LAST-MODIFIED:20170417T074718Z
UID:9132-1492862400-1492872300@www.nakedmadrid.com
SUMMARY:La Vermutería at Tipos Infames bookstore in Malasaña
DESCRIPTION:The vermouth pop-up bar\, La Vermuteria\, is back at Tipos Infames bookstore in Malasaña this Saturday. Skim through the pages of a new book while you treat yourself to a refreshing vermouth before lunch! \n 
URL:https://www.nakedmadrid.com/event/la-vermuteria-at-tipos-infames-bookstore-in-malasana/
LOCATION:Tipos Infames\, Calle San Joaquín 3\, Madrid\, Spain
CATEGORIES:Books,Drinks,Food
ATTACH;FMTTYPE=image/jpeg:https://www.nakedmadrid.com/wp-content/uploads/2016/07/la-vermuteria-pop-up-e1492412284270.jpg
END:VEVENT
END:VCALENDAR