BEGIN:VCALENDAR
VERSION:2.0
PRODID:-//Naked Madrid - ECPv5.2.1//NONSGML v1.0//EN
CALSCALE:GREGORIAN
METHOD:PUBLISH
X-WR-CALNAME:Naked Madrid
X-ORIGINAL-URL:https://www.nakedmadrid.com
X-WR-CALDESC:Events for Naked Madrid
BEGIN:VTIMEZONE
TZID:UTC
BEGIN:STANDARD
TZOFFSETFROM:+0000
TZOFFSETTO:+0000
TZNAME:UTC
DTSTART:20150101T000000
END:STANDARD
END:VTIMEZONE
BEGIN:VEVENT
DTSTART;TZID=UTC:20150610T190000
DTEND;TZID=UTC:20150610T230000
DTSTAMP:20260423T012233
CREATED:20150122T151334Z
LAST-MODIFIED:20150608T071523Z
UID:5297-1433962800-1433977200@www.nakedmadrid.com
SUMMARY:La Venganza de Malinche -1€ Tacos and Beers on Wednesday Nights
DESCRIPTION:You’ve made it half-way through the week\, what better way to celebrate than with a few tacos and beers? Every Wednesday from 7pm-11pm\, La Venganza de Malinche offers a variety of small tacos and Coronitas for only 1€ at their multiple locations in Madrid. \nLocations:\nPlaza de San Martin\, 2\nCalle de los Jardines\, 5\nPlaza Duque de Osuna\, 5\nCalle Leganes\, 5 \nAbout the tacos:\nThe tacos are small\, so you have an excuse to try one of each\, and without hurting your wallet. You’ll find a little something for everyone: chicken tinga\, vegetarian\, cochinita\, and mole\, among others. The tacos are served on warm flour tortillas with accompanying salsas to use at your discretion. The supplementary salsas are not for the faint-of heart\, and will certainly spice up your taco\, so proceed with caution! \nAbout the place:\nThe dining area features funky\, unpretentious décor\, and service is quick and friendly. This\, combined with the 1€ price tag\, will make it hard to avoid becoming a Wednesday night regular at La Venganza de Malinche! \nby Meredith Parmalee \nHaven’t found a good Mexican restaurant yet? Check out our post on Madrid’s Best Mexican Restaurants!
URL:https://www.nakedmadrid.com/event/la-venganza-de-malinche-tacos-for-1e-every-wednesday-near-opera/
LOCATION:La venganza de Malinche\, Plaza de San Martín\, 2\, Madrid\, Spain
CATEGORIES:Drinks,Food
ATTACH;FMTTYPE=image/jpeg:https://www.nakedmadrid.com/wp-content/uploads/2015/01/IMG_20150121_220522-e1421962818934.jpg
END:VEVENT
END:VCALENDAR