BEGIN:VCALENDAR
VERSION:2.0
PRODID:-//Naked Madrid - ECPv5.2.1//NONSGML v1.0//EN
CALSCALE:GREGORIAN
METHOD:PUBLISH
X-WR-CALNAME:Naked Madrid
X-ORIGINAL-URL:https://www.nakedmadrid.com
X-WR-CALDESC:Events for Naked Madrid
BEGIN:VTIMEZONE
TZID:UTC
BEGIN:STANDARD
TZOFFSETFROM:+0000
TZOFFSETTO:+0000
TZNAME:UTC
DTSTART:20150101T000000
END:STANDARD
END:VTIMEZONE
BEGIN:VEVENT
DTSTART;VALUE=DATE:20150528
DTEND;VALUE=DATE:20150615
DTSTAMP:20260423T031353
CREATED:20150603T075932Z
LAST-MODIFIED:20150603T075932Z
UID:6976-1432771200-1434326399@www.nakedmadrid.com
SUMMARY:La Latina Pincho Week – beer and (42) pinchos will cost you €2.50
DESCRIPTION:Get to know the gorgeous neighborhood of La Latina through its pincho week! 42 bars will be serving their own creative pinchos\, which you can get for just €2.50 with a beer. This is definitely a fun way to discover new bars and a fantastic excuse to spend an evening with friends “pincho-hopping” in La Latina. \nWe haven’t been able to find the route link so your best bet is to just get off at La Latina metro stop and wonder around until you stumble upon the pincho bar you like. The poster should be on the door.
URL:https://www.nakedmadrid.com/event/la-latina-pincho-week-beer-and-42-pinchos-will-cost-you-e2-50/
LOCATION:La Latina neighborhood
ATTACH;FMTTYPE=image/jpeg:https://www.nakedmadrid.com/wp-content/uploads/2015/06/poster_la_latina_2015ok.jpg
END:VEVENT
END:VCALENDAR