BEGIN:VCALENDAR
VERSION:2.0
PRODID:-//Naked Madrid - ECPv5.2.1//NONSGML v1.0//EN
CALSCALE:GREGORIAN
METHOD:PUBLISH
X-WR-CALNAME:Naked Madrid
X-ORIGINAL-URL:https://www.nakedmadrid.com
X-WR-CALDESC:Events for Naked Madrid
BEGIN:VTIMEZONE
TZID:UTC
BEGIN:STANDARD
TZOFFSETFROM:+0000
TZOFFSETTO:+0000
TZNAME:UTC
DTSTART:20150101T000000
END:STANDARD
END:VTIMEZONE
BEGIN:VEVENT
DTSTART;TZID=UTC:20150411T103000
DTEND;TZID=UTC:20150412T190000
DTSTAMP:20260423T012246
CREATED:20150409T113403Z
LAST-MODIFIED:20150409T113403Z
UID:6515-1428748200-1428865200@www.nakedmadrid.com
SUMMARY:La Buena Vida\, a market for local craftsmen and ecological products
DESCRIPTION:This weekend\, the countryside is coming into the city. Check out La Buena Vida — a market for local craftsmen and ecological products at Impact Hub Next\, an innovation and co-working center in the Barrio de las Letras.
URL:https://www.nakedmadrid.com/event/la-buena-vida-a-market-for-local-craftsmen-and-ecological-products/
LOCATION:Impact Hub\, Calle del Gobernador\, 26\, Madrid\, Madrid\, 28014\, Spain
CATEGORIES:Drinks,Food,Markets,Tastings,Workshops
ATTACH;FMTTYPE=image/png:https://www.nakedmadrid.com/wp-content/uploads/2015/04/LBV_ABRIL_FB_POST-700x467.png
END:VEVENT
END:VCALENDAR