BEGIN:VCALENDAR
VERSION:2.0
PRODID:-//Naked Madrid - ECPv5.2.1//NONSGML v1.0//EN
CALSCALE:GREGORIAN
METHOD:PUBLISH
X-WR-CALNAME:Naked Madrid
X-ORIGINAL-URL:https://www.nakedmadrid.com
X-WR-CALDESC:Events for Naked Madrid
BEGIN:VTIMEZONE
TZID:UTC
BEGIN:STANDARD
TZOFFSETFROM:+0000
TZOFFSETTO:+0000
TZNAME:UTC
DTSTART:20160101T000000
END:STANDARD
END:VTIMEZONE
BEGIN:VEVENT
DTSTART;TZID=UTC:20160211T100000
DTEND;TZID=UTC:20160211T220000
DTSTAMP:20260423T021832
CREATED:20160205T181214Z
LAST-MODIFIED:20160205T181246Z
UID:8528-1455184800-1455228000@www.nakedmadrid.com
SUMMARY:K'Moon Market – All-day fashion\, music\, drinks and more...
DESCRIPTION:The advertising and PR agency\, K’Moon\, is holding a unique market all day Thursday at its office on Calle Príncipe 12\, 3B\, near metros Sol and Sevilla. At the event\, the company will be offering special prices on collections of the brands it works with\, as well as a raffle\, activities\, music\, a beauty corner and cocktails\, among other surprises in store!
URL:https://www.nakedmadrid.com/event/kmoon-market-all-day-fashion-music-drinks-and-more/
LOCATION:K’Moon Comunicación\, Calle Príncipe\, 12\, 3B\, Madrid
ATTACH;FMTTYPE=image/jpeg:https://www.nakedmadrid.com/wp-content/uploads/2016/02/KMoon-Market-Madrid.jpg
END:VEVENT
END:VCALENDAR