BEGIN:VCALENDAR
VERSION:2.0
PRODID:-//Naked Madrid - ECPv5.2.1//NONSGML v1.0//EN
CALSCALE:GREGORIAN
METHOD:PUBLISH
X-WR-CALNAME:Naked Madrid
X-ORIGINAL-URL:https://www.nakedmadrid.com
X-WR-CALDESC:Events for Naked Madrid
BEGIN:VTIMEZONE
TZID:UTC
BEGIN:STANDARD
TZOFFSETFROM:+0000
TZOFFSETTO:+0000
TZNAME:UTC
DTSTART:20160101T000000
END:STANDARD
END:VTIMEZONE
BEGIN:VEVENT
DTSTART;TZID=UTC:20160226T200000
DTEND;TZID=UTC:20160226T220000
DTSTAMP:20260422T233022
CREATED:20160202T131432Z
LAST-MODIFIED:20160202T131432Z
UID:8490-1456516800-1456524000@www.nakedmadrid.com
SUMMARY:I'll Be Back: The Monthly Chess Event
DESCRIPTION:Get ready for another monthly chess event brought to you by Desperate Literature. This month’s theme: I’ll be back! Practice your best impression of the Terminator and enjoy playing a game of chess with friends.
URL:https://www.nakedmadrid.com/event/ill-be-back-the-monthly-chess-event/
LOCATION:Desperate Literature\, c/ Campomanes 13\, Madrid
CATEGORIES:Drinks,Games
ATTACH;FMTTYPE=image/jpeg:https://www.nakedmadrid.com/wp-content/uploads/2016/02/Ill-Be-Back-Monthly-Chess-Event.jpg
END:VEVENT
END:VCALENDAR