BEGIN:VCALENDAR
VERSION:2.0
PRODID:-//Naked Madrid - ECPv5.2.1//NONSGML v1.0//EN
CALSCALE:GREGORIAN
METHOD:PUBLISH
X-WR-CALNAME:Naked Madrid
X-ORIGINAL-URL:https://www.nakedmadrid.com
X-WR-CALDESC:Events for Naked Madrid
BEGIN:VTIMEZONE
TZID:UTC
BEGIN:STANDARD
TZOFFSETFROM:+0000
TZOFFSETTO:+0000
TZNAME:UTC
DTSTART:20150101T000000
END:STANDARD
END:VTIMEZONE
BEGIN:VEVENT
DTSTART;TZID=UTC:20150131T080000
DTEND;TZID=UTC:20150215T170000
DTSTAMP:20260422T233645
CREATED:20150120T111959Z
LAST-MODIFIED:20150120T112134Z
UID:5202-1422691200-1424019600@www.nakedmadrid.com
SUMMARY:Gastrofestival Madrid -- a 2-week city-wide food celebration!
DESCRIPTION:Madrid will be celebrating food culture for two full weeks! GastroFestival is an event that brings together more than 400 restaurants and bars to offer a delightful array of food-inspired opportunities\, from tapas tastings to workshops\, with one sole purpose — TO CELEBRATE FOOD! \nMadrid Fusión and the Ayuntamiento de Madrid (Madrid’s city hall) are the organizers we should be thanking. If you are in the capital from Jan. 31 – Feb. 15\, don’t miss this chance to experience Madrid’s finest. \nCheck out the program and enjoy! \n  \n  \n 
URL:https://www.nakedmadrid.com/event/gastrofestival-madrid/
LOCATION:Unnamed Venue\, Madrid
CATEGORIES:Drinks,Fair,Festivals,Food,Markets,music,Tastings,Wine Tour,Workshops
ATTACH;FMTTYPE=image/jpeg:https://www.nakedmadrid.com/wp-content/uploads/2015/01/4021-1387538482.jpg
END:VEVENT
END:VCALENDAR