BEGIN:VCALENDAR
VERSION:2.0
PRODID:-//Naked Madrid - ECPv5.2.1//NONSGML v1.0//EN
CALSCALE:GREGORIAN
METHOD:PUBLISH
X-WR-CALNAME:Naked Madrid
X-ORIGINAL-URL:https://www.nakedmadrid.com
X-WR-CALDESC:Events for Naked Madrid
BEGIN:VTIMEZONE
TZID:UTC
BEGIN:STANDARD
TZOFFSETFROM:+0000
TZOFFSETTO:+0000
TZNAME:UTC
DTSTART:20150101T000000
END:STANDARD
END:VTIMEZONE
BEGIN:VEVENT
DTSTART;TZID=UTC:20150411T120000
DTEND;TZID=UTC:20150412T160000
DTSTAMP:20260422T220946
CREATED:20150220T120446Z
LAST-MODIFIED:20150409T080627Z
UID:5781-1428753600-1428854400@www.nakedmadrid.com
SUMMARY:Gastro Market at la Industrial II
DESCRIPTION:Spend your weekend tasting quality organic products and browsing through artisan crafts at the new edition of Gastro Market in La Industrial in Malasaña. At this new gastronomic marketplace\, you’ll get to enjoy both local and international products.
URL:https://www.nakedmadrid.com/event/gastro-market-at-la-industrial-ii/
LOCATION:La Industrial\, Calle de San Andrés\, 8\, Madrid\, Spain
CATEGORIES:Food,Markets
ATTACH;FMTTYPE=image/jpeg:https://www.nakedmadrid.com/wp-content/uploads/2015/02/gastro.jpg
END:VEVENT
END:VCALENDAR