BEGIN:VCALENDAR
VERSION:2.0
PRODID:-//Naked Madrid - ECPv5.2.1//NONSGML v1.0//EN
CALSCALE:GREGORIAN
METHOD:PUBLISH
X-WR-CALNAME:Naked Madrid
X-ORIGINAL-URL:https://www.nakedmadrid.com
X-WR-CALDESC:Events for Naked Madrid
BEGIN:VTIMEZONE
TZID:UTC
BEGIN:STANDARD
TZOFFSETFROM:+0000
TZOFFSETTO:+0000
TZNAME:UTC
DTSTART:20140101T000000
END:STANDARD
END:VTIMEZONE
BEGIN:VEVENT
DTSTART;TZID=UTC:20141026T193000
DTEND;TZID=UTC:20141026T220000
DTSTAMP:20260423T010453
CREATED:20141019T110938Z
LAST-MODIFIED:20141019T110938Z
UID:3964-1414351800-1414360800@www.nakedmadrid.com
SUMMARY:Freshly Squeezed English-language Comedy at Beer Station
DESCRIPTION:Freshly Comedy\, Madrid’s English-language stand-up and improv group\, has been making the city laugh since 2011. They’re taking over the Beer Station on Sunday\, Oct. 26th\, for a night of laughs\, jokes\, games\, drinks and much\, much more. Rumor is — the audience will be participating too… \nReserve your tickets here (7€ in advance or 12€ at the door) \n 
URL:https://www.nakedmadrid.com/event/freshly-squeezed-english-language-comedy-at-beer-station/
LOCATION:Beer Station\, Cuesta Santo Domingo 22\, Madrid
CATEGORIES:Comedy,Games
ATTACH;FMTTYPE=image/jpeg:https://www.nakedmadrid.com/wp-content/uploads/2014/10/10710626_1012480532112209_1473687431798479192_n.jpg
END:VEVENT
END:VCALENDAR