BEGIN:VCALENDAR
VERSION:2.0
PRODID:-//Naked Madrid - ECPv5.2.1//NONSGML v1.0//EN
CALSCALE:GREGORIAN
METHOD:PUBLISH
X-WR-CALNAME:Naked Madrid
X-ORIGINAL-URL:https://www.nakedmadrid.com
X-WR-CALDESC:Events for Naked Madrid
BEGIN:VTIMEZONE
TZID:UTC
BEGIN:STANDARD
TZOFFSETFROM:+0000
TZOFFSETTO:+0000
TZNAME:UTC
DTSTART:20140101T000000
END:STANDARD
END:VTIMEZONE
BEGIN:VEVENT
DTSTART;TZID=UTC:20141115T193000
DTEND;TZID=UTC:20141115T210000
DTSTAMP:20260423T010624
CREATED:20141114T211227Z
LAST-MODIFIED:20141115T091118Z
UID:4290-1416079800-1416085200@www.nakedmadrid.com
SUMMARY:Freshly Comedy\, a night of standup comedy and improv at Beer Station
DESCRIPTION:The weather’s getting colder\, but the guys at Freshly Comedy are red-hot! Join them for this month’s dose of Freshly Squeezed featuring brand new standup and manic improv.  There will be drinks\, games\, laughs and there might be audience participation\, too. \nFreshly Comedy is one of Madrid’s first English-language comedy groups. They’ve been at it for 4 years\, bringing shows that Atrápalo users call “extraordinary”! \nYou can reserve your ticket in advance for 7€ or pay 10€ at the door. \nTickets & info: www.freshlycomedy.com \nAlso check out our in-depth article: Madrid’s action-packed English-language comedy scene!\n  \n  \n 
URL:https://www.nakedmadrid.com/event/freshly-comedy-a-night-of-stand-up-comedy-and-improv-at-beer-station/
LOCATION:Beer Station\, Cuesta Santo Domingo 22\, Madrid
CATEGORIES:Comedy,Drinks
ATTACH;FMTTYPE=image/jpeg:https://www.nakedmadrid.com/wp-content/uploads/2014/10/tic_0_296.jpg
END:VEVENT
END:VCALENDAR