BEGIN:VCALENDAR
VERSION:2.0
PRODID:-//Naked Madrid - ECPv5.2.1//NONSGML v1.0//EN
CALSCALE:GREGORIAN
METHOD:PUBLISH
X-WR-CALNAME:Naked Madrid
X-ORIGINAL-URL:https://www.nakedmadrid.com
X-WR-CALDESC:Events for Naked Madrid
BEGIN:VTIMEZONE
TZID:UTC
BEGIN:STANDARD
TZOFFSETFROM:+0000
TZOFFSETTO:+0000
TZNAME:UTC
DTSTART:20150101T000000
END:STANDARD
END:VTIMEZONE
BEGIN:VEVENT
DTSTART;TZID=UTC:20150315T080000
DTEND;TZID=UTC:20150315T170000
DTSTAMP:20260423T010620
CREATED:20150304T154931Z
LAST-MODIFIED:20150316T130742Z
UID:6010-1426406400-1426438800@www.nakedmadrid.com
SUMMARY:Freshly Baked - Sunday Funday with Improv. in English!
DESCRIPTION:If you’re looking for a fun way to spend your Sunday night\, you’ve found it. Freshly Baked offers a night of fresh standup and improv in English at Beer Station at 7pm. The show is hosted by Freshly Comedy\, one of Madrid’s first English-language comedy groups\, and their show — Freshly Squeezed — is among the highest-rated shows on Atrapalo.  \nReserve your tickets here and pay at the door! \nFind out more about Madrid’s action-packed English-language comedy scene here.
URL:https://www.nakedmadrid.com/event/freshly-baked-sunday-funday-with-improv-in-english/
LOCATION:Beer Station\, Cuesta Santo Domingo 22\, Madrid
CATEGORIES:Comedy,Games
ATTACH;FMTTYPE=image/jpeg:https://www.nakedmadrid.com/wp-content/uploads/2015/03/11038698_898590330184643_7099799366620695873_n.jpg
END:VEVENT
END:VCALENDAR