BEGIN:VCALENDAR
VERSION:2.0
PRODID:-//Naked Madrid - ECPv5.2.1//NONSGML v1.0//EN
CALSCALE:GREGORIAN
METHOD:PUBLISH
X-WR-CALNAME:Naked Madrid
X-ORIGINAL-URL:https://www.nakedmadrid.com
X-WR-CALDESC:Events for Naked Madrid
BEGIN:VTIMEZONE
TZID:UTC
BEGIN:STANDARD
TZOFFSETFROM:+0000
TZOFFSETTO:+0000
TZNAME:UTC
DTSTART:20150101T000000
END:STANDARD
END:VTIMEZONE
BEGIN:VEVENT
DTSTART;TZID=UTC:20151128T230000
DTEND;TZID=UTC:20151129T010000
DTSTAMP:20260422T221027
CREATED:20151120T095415Z
LAST-MODIFIED:20151126T090926Z
UID:8088-1448751600-1448758800@www.nakedmadrid.com
SUMMARY:Forasteros Concert – Folk\, Gypsy-jazz & Swing Music in La Latina
DESCRIPTION:Don’t miss the chance to support a Madrid-based band playing tracks from their recently released EP “Hello You!” (Have a listen here) together with classic and new Forasterian creations.  Forasteros is made up of a group of international musicians playing a mix of folk\, swing and gypsy-jazz music. They’ll be holding a concert on Saturday\, Nov 28\, at 11pm in La Latina\, at a venue called Collage Drinks Art. Entrance costs €6 with a drink. Also check out our feature article on Forasteros.
URL:https://www.nakedmadrid.com/event/forasteros-concert-folk-gypsy-jazz-swing-music-in-la-latina/
LOCATION:Collage Drinks Art\, Calle Mancebos 2\, Madrid\, Spain
CATEGORIES:art,Drinks,music
ATTACH;FMTTYPE=image/jpeg:https://www.nakedmadrid.com/wp-content/uploads/2015/11/Forasteros-Madrid-Concert.jpg
END:VEVENT
END:VCALENDAR