BEGIN:VCALENDAR
VERSION:2.0
PRODID:-//Naked Madrid - ECPv5.2.1//NONSGML v1.0//EN
CALSCALE:GREGORIAN
METHOD:PUBLISH
X-WR-CALNAME:Naked Madrid
X-ORIGINAL-URL:https://www.nakedmadrid.com
X-WR-CALDESC:Events for Naked Madrid
BEGIN:VTIMEZONE
TZID:UTC
BEGIN:STANDARD
TZOFFSETFROM:+0000
TZOFFSETTO:+0000
TZNAME:UTC
DTSTART:20160101T000000
END:STANDARD
END:VTIMEZONE
BEGIN:VEVENT
DTSTART;VALUE=DATE:20160301
DTEND;VALUE=DATE:20160307
DTSTAMP:20260422T233712
CREATED:20160229T170731Z
LAST-MODIFIED:20160301T091307Z
UID:8774-1456790400-1457308799@www.nakedmadrid.com
SUMMARY:Food Trucks Expo – Nuevos Ministerios
DESCRIPTION:Start March off right with the Food Trucks Expo going on from March 1st – March 6th! 16 food trucks will gather near Nuevos Ministerios to showcase food from all over Spain. Don’t miss the chance to have food from vendors like Lucia’s\, Origen\, and Frankfurt’s Madrid! \nHours:\n11:30am-9pm – Tuesday through Wednesday \n11:30am-10:30pm – Friday & Saturday \n11:30am-6pm – Sunday \n 
URL:https://www.nakedmadrid.com/event/food-trucks-expo/
CATEGORIES:Drinks,Fair,Food
ATTACH;FMTTYPE=image/png:https://www.nakedmadrid.com/wp-content/uploads/2016/02/Logo-Expo-Foodtrucks-2016-ok-e1456765560692.png
END:VEVENT
END:VCALENDAR