BEGIN:VCALENDAR
VERSION:2.0
PRODID:-//Naked Madrid - ECPv5.2.1//NONSGML v1.0//EN
CALSCALE:GREGORIAN
METHOD:PUBLISH
X-WR-CALNAME:Naked Madrid
X-ORIGINAL-URL:https://www.nakedmadrid.com
X-WR-CALDESC:Events for Naked Madrid
BEGIN:VTIMEZONE
TZID:UTC
BEGIN:STANDARD
TZOFFSETFROM:+0000
TZOFFSETTO:+0000
TZNAME:UTC
DTSTART:20160101T000000
END:STANDARD
END:VTIMEZONE
BEGIN:VEVENT
DTSTART;TZID=UTC:20160311T200000
DTEND;TZID=UTC:20160311T220000
DTSTAMP:20260423T004701
CREATED:20160309T071544Z
LAST-MODIFIED:20160309T071544Z
UID:8785-1457726400-1457733600@www.nakedmadrid.com
SUMMARY:Folkin' Doktor Lemoine: the monthly concert
DESCRIPTION:Doktor Lemoine will be singing a song or two for the folk-loving folks at Desperate Literature on Friday\, March 11th. Charming all with his tuxedo and camper van\, Lemoine will be worth the trip so strum on down for this folk-tastic concert. \nFacebook
URL:https://www.nakedmadrid.com/event/folkin-doktor-lemoine-the-monthly-concert/
LOCATION:Desperate Literature\, c/ Campomanes 13\, Madrid
CATEGORIES:music
ATTACH;FMTTYPE=image/jpeg:https://www.nakedmadrid.com/wp-content/uploads/2016/03/DeLit.jpg
END:VEVENT
END:VCALENDAR